BEGIN:VCALENDAR
VERSION:2.0
PRODID:-//Cymdeithas Madog - ECPv6.15.18//NONSGML v1.0//EN
CALSCALE:GREGORIAN
METHOD:PUBLISH
X-WR-CALNAME:Cymdeithas Madog
X-ORIGINAL-URL:https://madog.org
X-WR-CALDESC:Events for Cymdeithas Madog
REFRESH-INTERVAL;VALUE=DURATION:PT1H
X-Robots-Tag:noindex
X-PUBLISHED-TTL:PT1H
BEGIN:VTIMEZONE
TZID:America/Toronto
BEGIN:DAYLIGHT
TZOFFSETFROM:-0500
TZOFFSETTO:-0400
TZNAME:EDT
DTSTART:20240310T070000
END:DAYLIGHT
BEGIN:STANDARD
TZOFFSETFROM:-0400
TZOFFSETTO:-0500
TZNAME:EST
DTSTART:20241103T060000
END:STANDARD
BEGIN:DAYLIGHT
TZOFFSETFROM:-0500
TZOFFSETTO:-0400
TZNAME:EDT
DTSTART:20250309T070000
END:DAYLIGHT
BEGIN:STANDARD
TZOFFSETFROM:-0400
TZOFFSETTO:-0500
TZNAME:EST
DTSTART:20251102T060000
END:STANDARD
BEGIN:DAYLIGHT
TZOFFSETFROM:-0500
TZOFFSETTO:-0400
TZNAME:EDT
DTSTART:20260308T070000
END:DAYLIGHT
BEGIN:STANDARD
TZOFFSETFROM:-0400
TZOFFSETTO:-0500
TZNAME:EST
DTSTART:20261101T060000
END:STANDARD
END:VTIMEZONE
BEGIN:VEVENT
DTSTART;TZID=America/Toronto:20251115T133000
DTEND;TZID=America/Toronto:20251115T143000
DTSTAMP:20260426T004010
CREATED:20250812T221122Z
LAST-MODIFIED:20251019T150820Z
UID:2696-1763213400-1763217000@madog.org
SUMMARY:November 2025 Siop Siarad - Beginner/Mynediad
DESCRIPTION:THIS FORM IS FOR OUR BEGINNER/MYNEDIAD SESSION at 10.30 PDT / 1:30 EDT\,  on Zoom \nThank you for filling in this brief registration form for our Siop Siarad! Each one-hour conversation group will be limited to 10 participants and will be moderated by an advanced Welsh speaker or tutor. Registration is first-come\, first-served. The sessions are free. \nNovember themed discussion will be on Gwaith / Work \nPlease subscribe to our newsletter to get information on upcoming Cymdeithas Madog events. Subscribe here \nWe always welcome donations to our Scholarship Endowment Fund as well as general donations. To make a donation\, please visit \nSupport Cymdeithas Madog
URL:https://madog.org/event/november-2025-siop-siarad-beginner-intermediate/
CATEGORIES:Siop Siarad
END:VEVENT
BEGIN:VEVENT
DTSTART;TZID=America/Toronto:20251115T133000
DTEND;TZID=America/Toronto:20251115T143000
DTSTAMP:20260426T004010
CREATED:20250812T221258Z
LAST-MODIFIED:20251019T152016Z
UID:2697-1763213400-1763217000@madog.org
SUMMARY:November 2025 Siop Siarad - Intermediate/Canolradd
DESCRIPTION:THIS FORM IS FOR OUR INTERMEDIATE/CANOLRADD SESSION at 10.30 PDT / 1:30 EDT\,  on Zoom \nThank you for filling in this brief registration form for our Siop Siarad! Each one-hour conversation group will be limited to 10 participants and will be moderated by an advanced Welsh speaker or tutor. Registration is first-come\, first-served. The sessions are free. \nNovember themed discussion will be on Gwaith / Work \nPlease subscribe to our newsletter to get information on upcoming Cymdeithas Madog events. Subscribe here \nWe always welcome donations to our Scholarship Endowment Fund as well as general donations. To make a donation\, please visit \nSupport Cymdeithas Madog
URL:https://madog.org/event/november-2025-siop-siarad-intermediate-2/
CATEGORIES:Siop Siarad
END:VEVENT
BEGIN:VEVENT
DTSTART;TZID=America/Toronto:20251115T133000
DTEND;TZID=America/Toronto:20251115T143000
DTSTAMP:20260426T004010
CREATED:20250812T221408Z
LAST-MODIFIED:20251020T184020Z
UID:2702-1763213400-1763217000@madog.org
SUMMARY:November 2025 Siop Siarad - Advanced/Uwch
DESCRIPTION:THIS FORM IS FOR OUR ADVANCED/UWCH SESSION at 10.30 PDT / 1:30 EDT\,  on Zoom \nThank you for filling in this brief registration form for our Siop Siarad! Each one-hour conversation group will be limited to 10 participants and will be moderated by an advanced Welsh speaker or tutor. Registration is first-come\, first-served. The sessions are free. \nNovember themed discussion will be on Gwaith / Work \nPlease subscribe to our newsletter to get information on upcoming Cymdeithas Madog events. Subscribe here \nWe always welcome donations to our Scholarship Endowment Fund as well as general donations. To make a donation\, please visit \nSupport Cymdeithas Madog
URL:https://madog.org/event/november-2025-siop-siarad-advanced/
CATEGORIES:Siop Siarad
END:VEVENT
END:VCALENDAR