BEGIN:VCALENDAR
VERSION:2.0
PRODID:-//Cymdeithas Madog - ECPv6.15.18//NONSGML v1.0//EN
CALSCALE:GREGORIAN
METHOD:PUBLISH
X-ORIGINAL-URL:https://madog.org
X-WR-CALDESC:Events for Cymdeithas Madog
REFRESH-INTERVAL;VALUE=DURATION:PT1H
X-Robots-Tag:noindex
X-PUBLISHED-TTL:PT1H
BEGIN:VTIMEZONE
TZID:America/Toronto
BEGIN:DAYLIGHT
TZOFFSETFROM:-0500
TZOFFSETTO:-0400
TZNAME:EDT
DTSTART:20240310T070000
END:DAYLIGHT
BEGIN:STANDARD
TZOFFSETFROM:-0400
TZOFFSETTO:-0500
TZNAME:EST
DTSTART:20241103T060000
END:STANDARD
BEGIN:DAYLIGHT
TZOFFSETFROM:-0500
TZOFFSETTO:-0400
TZNAME:EDT
DTSTART:20250309T070000
END:DAYLIGHT
BEGIN:STANDARD
TZOFFSETFROM:-0400
TZOFFSETTO:-0500
TZNAME:EST
DTSTART:20251102T060000
END:STANDARD
BEGIN:DAYLIGHT
TZOFFSETFROM:-0500
TZOFFSETTO:-0400
TZNAME:EDT
DTSTART:20260308T070000
END:DAYLIGHT
BEGIN:STANDARD
TZOFFSETFROM:-0400
TZOFFSETTO:-0500
TZNAME:EST
DTSTART:20261101T060000
END:STANDARD
END:VTIMEZONE
BEGIN:VEVENT
DTSTART;TZID=America/Toronto:20250816T123000
DTEND;TZID=America/Toronto:20250816T133000
DTSTAMP:20260426T041706
CREATED:20250730T144143Z
LAST-MODIFIED:20250730T144143Z
UID:2677-1755347400-1755351000@madog.org
SUMMARY:August 2025 Siop Siarad - Beginner-Intermediate
DESCRIPTION:THIS FORM IS FOR OUR BEGINNING/INTERMEDIATE GROUP 1: 9:30 PST / 12:30 EST\, Moderator TBA\, on Zoom \n\n\n\nThank you for filling in this brief registration form for our Siop Siarad! Each one-hour conversation group will be limited to 10 participants and will be moderated by an advanced Welsh speaker or tutor. Registration is first-come\, first-served. The sessions are free. Moderator Bio: \n\n\n\nWe always welcome donations to our Scholarship Endowment Fund as well as general donations. To make a donation\, please visit Support Cymdeithas Madog
URL:https://madog.org/event/august-2025-siop-siarad-beginner-intermediate/
CATEGORIES:Siop Siarad
END:VEVENT
BEGIN:VEVENT
DTSTART;TZID=America/Toronto:20250816T133000
DTEND;TZID=America/Toronto:20250816T143000
DTSTAMP:20260426T041706
CREATED:20250730T144344Z
LAST-MODIFIED:20250730T144344Z
UID:2676-1755351000-1755354600@madog.org
SUMMARY:August 2025 Siop Siarad - Advanced
DESCRIPTION:THIS FORM IS FOR OUR ADVANCED GROUP at 10:30 PST / 1:30 EST\, Moderator TBA\, on Zoom \n\n\n\nThank you for filling in this brief registration form for our Siop Siarad! Each one-hour conversation group will be limited to 10 participants and will be moderated by an advanced Welsh speaker or tutor. Registration is first-come\, first-served. The sessions are free. \n\n\n\nModerator Bio  \n\n\n\nWe always welcome donations to our Scholarship Endowment Fund as well as general donations. To make a donation\, please visit Support Cymdeithas Madog
URL:https://madog.org/event/august-2025-siop-siarad-advanced/
CATEGORIES:Siop Siarad
END:VEVENT
BEGIN:VEVENT
DTSTART;TZID=America/Toronto:20250816T143000
DTEND;TZID=America/Toronto:20250816T153000
DTSTAMP:20260426T041706
CREATED:20250730T144304Z
LAST-MODIFIED:20250730T144304Z
UID:2675-1755354600-1755358200@madog.org
SUMMARY:August 2025 Siop Siarad - Intermediate 2
DESCRIPTION:THIS FORM IS FOR OUR BEGINNING/INTERMEDIATE GROUP 2\nat 11:30 PDT / 2:30 EDT\, Moderator TBA\, on Zoom \nThank you for filling in this brief registration form for our Siop Siarad! Each one-hour conversation group will be limited to 10 participants and will be moderated by an advanced Welsh speaker or tutor. Registration is first-come\, first-served. The sessions are free. \nModerator Bio:  TBA \nWe always welcome donations to our Scholarship Endowment Fund as well as general donations. To make a donation\, please visit Support Cymdeithas Madog
URL:https://madog.org/event/august-2025-siop-siarad-intermediate-2/
CATEGORIES:Siop Siarad
END:VEVENT
END:VCALENDAR