BEGIN:VCALENDAR
VERSION:2.0
PRODID:-//Cymdeithas Madog - ECPv6.15.18//NONSGML v1.0//EN
CALSCALE:GREGORIAN
METHOD:PUBLISH
X-WR-CALNAME:Cymdeithas Madog
X-ORIGINAL-URL:https://madog.org
X-WR-CALDESC:Events for Cymdeithas Madog
REFRESH-INTERVAL;VALUE=DURATION:PT1H
X-Robots-Tag:noindex
X-PUBLISHED-TTL:PT1H
BEGIN:VTIMEZONE
TZID:America/Toronto
BEGIN:DAYLIGHT
TZOFFSETFROM:-0500
TZOFFSETTO:-0400
TZNAME:EDT
DTSTART:20250309T070000
END:DAYLIGHT
BEGIN:STANDARD
TZOFFSETFROM:-0400
TZOFFSETTO:-0500
TZNAME:EST
DTSTART:20251102T060000
END:STANDARD
BEGIN:DAYLIGHT
TZOFFSETFROM:-0500
TZOFFSETTO:-0400
TZNAME:EDT
DTSTART:20260308T070000
END:DAYLIGHT
BEGIN:STANDARD
TZOFFSETFROM:-0400
TZOFFSETTO:-0500
TZNAME:EST
DTSTART:20261101T060000
END:STANDARD
BEGIN:DAYLIGHT
TZOFFSETFROM:-0500
TZOFFSETTO:-0400
TZNAME:EDT
DTSTART:20270314T070000
END:DAYLIGHT
BEGIN:STANDARD
TZOFFSETFROM:-0400
TZOFFSETTO:-0500
TZNAME:EST
DTSTART:20271107T060000
END:STANDARD
END:VTIMEZONE
BEGIN:VEVENT
DTSTART;TZID=America/Toronto:20260321T133000
DTEND;TZID=America/Toronto:20260321T143000
DTSTAMP:20260425T152731
CREATED:20260223T125201Z
LAST-MODIFIED:20260223T183510Z
UID:2864-1774099800-1774103400@madog.org
SUMMARY:March 2026 Siop Siarad - Intermediate/Canolradd
DESCRIPTION:Here is the link to register for the INTERMEDIATE/CANOLRADD SESSION at 10.30 PDT / 1:30 EDT\, on Zoom \nDyma’r ddolen i gofrestru ar gyfer y SESIWN CANOLRADD am 10.30 PDT / 1:30 EDT\, ar Zoom \nEach one-hour session is limited to 10 participants and will be moderated by an advanced Welsh speaker or tutor. \nRegistration is first-come\, first-served and the sessions are free. \nThis month’s discussion theme will be dathlu / celebrate. \nBydd trafodaeth thema’r mis hwn ar dathlu / celebrate. \nPlease subscribe to our newsletter to get information on upcoming Cymdeithas Madog events. Subscribe here \nWe always welcome donations to our Scholarship Endowment Fund as well as general donations. \nTo make a donation\, please visit Support Cymdeithas Madog
URL:https://madog.org/event/march-2026-siop-siarad-intermediate-canolradd-2/
CATEGORIES:Siop Siarad
END:VEVENT
BEGIN:VEVENT
DTSTART;TZID=America/Toronto:20260321T133000
DTEND;TZID=America/Toronto:20260321T143000
DTSTAMP:20260425T152731
CREATED:20260223T125338Z
LAST-MODIFIED:20260223T183529Z
UID:2875-1774099800-1774103400@madog.org
SUMMARY:March 2026 Siop Siarad - Foundation/Sylfaen
DESCRIPTION:Here is the link to register for the FOUNDATION/SYLFAEN SESSION at 10.30 PDT / 1:30 EDT\, on Zoom \nDyma’r ddolen i gofrestru ar gyfer y SESIWN SYLFAEN am 10.30 PDT / 1:30 EDT\, ar Zoom \nEach one-hour session is limited to 10 participants and will be moderated by an advanced Welsh speaker or tutor. \nRegistration is first-come\, first-served and the sessions are free. \nThis month’s discussion theme will be dathlu / celebrate. \nBydd trafodaeth thema’r mis hwn ar dathlu / celebrate. \nPlease subscribe to our newsletter to get information on upcoming Cymdeithas Madog events. Subscribe here \nWe always welcome donations to our Scholarship Endowment Fund as well as general donations. \nTo make a donation\, please visit Support Cymdeithas Madog
URL:https://madog.org/event/march-2026-siop-siarad-sylfaen-foundation/
CATEGORIES:Siop Siarad
END:VEVENT
BEGIN:VEVENT
DTSTART;TZID=America/Toronto:20260321T133000
DTEND;TZID=America/Toronto:20260321T143000
DTSTAMP:20260425T152731
CREATED:20260223T125411Z
LAST-MODIFIED:20260223T213711Z
UID:2871-1774099800-1774103400@madog.org
SUMMARY:March 2026 Siop Siarad - Entry/Mynediad
DESCRIPTION:Here is the link to register for the ENTRY/MYNEDIAD SESSION at 10.30 PDT / 1:30 EDT\, on Zoom \nDyma’r ddolen i gofrestru ar gyfer y SESIWN MYNEDIAD am 10.30 PDT / 1:30 EDT\, ar Zoom \nEach one-hour session is limited to 10 participants and will be moderated by an advanced Welsh speaker or tutor. \nRegistration is first-come\, first-served and the sessions are free. \nThis month’s discussion theme will be dathlu / celebrate. \nBydd trafodaeth thema’r mis hwn ar dathlu / celebrate. \nPlease subscribe to our newsletter to get information on upcoming Cymdeithas Madog events. Subscribe here \nWe always welcome donations to our Scholarship Endowment Fund as well as general donations.  \nTo make a donation\, please visit Support Cymdeithas Madog
URL:https://madog.org/event/march-2026-siop-siarad-entry-mynediad/
CATEGORIES:Siop Siarad
END:VEVENT
BEGIN:VEVENT
DTSTART;TZID=America/Toronto:20260321T133000
DTEND;TZID=America/Toronto:20260321T143000
DTSTAMP:20260425T152731
CREATED:20260223T125534Z
LAST-MODIFIED:20260223T183447Z
UID:2869-1774099800-1774103400@madog.org
SUMMARY:March 2026 Siop Siarad - Advanced/Uwch
DESCRIPTION:Here is the link to register for the ADVANCED/UWCH SESSION at 10.30 PDT / 1:30 EDT\, on Zoom \nDyma’r ddolen i gofrestru ar gyfer y SESIWN UWCH am 10.30 PDT / 1:30 EDT\, ar Zoom \nEach one-hour session is limited to 10 participants and will be moderated by an advanced Welsh speaker or tutor. \nRegistration is first-come\, first-served and the sessions are free. \nThis month’s discussion theme will be dathlu / celebrate. \nBydd trafodaeth thema’r mis hwn ar dathlu / celebrate. \nPlease subscribe to our newsletter to get information on upcoming Cymdeithas Madog events. Subscribe here \nWe always welcome donations to our Scholarship Endowment Fund as well as general donations. \nTo make a donation\, please visit Support Cymdeithas Madog \n 
URL:https://madog.org/event/march-2026-siop-siarad-advanced-uwch-2/
CATEGORIES:Siop Siarad
END:VEVENT
END:VCALENDAR